BEGIN:VCALENDAR
VERSION:2.0
PRODID:-//Motueka Valley Association - ECPv6.15.18//NONSGML v1.0//EN
CALSCALE:GREGORIAN
METHOD:PUBLISH
X-WR-CALNAME:Motueka Valley Association
X-ORIGINAL-URL:https://mva.org.nz
X-WR-CALDESC:Events for Motueka Valley Association
REFRESH-INTERVAL;VALUE=DURATION:PT1H
X-Robots-Tag:noindex
X-PUBLISHED-TTL:PT1H
BEGIN:VTIMEZONE
TZID:Pacific/Auckland
BEGIN:STANDARD
TZOFFSETFROM:+1300
TZOFFSETTO:+1200
TZNAME:NZST
DTSTART:20250405T140000
END:STANDARD
BEGIN:DAYLIGHT
TZOFFSETFROM:+1200
TZOFFSETTO:+1300
TZNAME:NZDT
DTSTART:20250927T140000
END:DAYLIGHT
BEGIN:STANDARD
TZOFFSETFROM:+1300
TZOFFSETTO:+1200
TZNAME:NZST
DTSTART:20260404T140000
END:STANDARD
BEGIN:DAYLIGHT
TZOFFSETFROM:+1200
TZOFFSETTO:+1300
TZNAME:NZDT
DTSTART:20260926T140000
END:DAYLIGHT
BEGIN:STANDARD
TZOFFSETFROM:+1300
TZOFFSETTO:+1200
TZNAME:NZST
DTSTART:20270403T140000
END:STANDARD
BEGIN:DAYLIGHT
TZOFFSETFROM:+1200
TZOFFSETTO:+1300
TZNAME:NZDT
DTSTART:20270925T140000
END:DAYLIGHT
END:VTIMEZONE
BEGIN:VEVENT
DTSTART;TZID=Pacific/Auckland:20260514T190000
DTEND;TZID=Pacific/Auckland:20260514T203000
DTSTAMP:20260425T011356
CREATED:20260217T060539Z
LAST-MODIFIED:20260217T060539Z
UID:1046-1778785200-1778790600@mva.org.nz
SUMMARY:May 2026 Meeting
DESCRIPTION:
URL:https://mva.org.nz/event/may-2026-meeting/
LOCATION:Ngatimoti Community Rooms\, 1425 Motueka Valley Highway\, Ngatimoti\, Tasman\, 7196\, New Zealand
CATEGORIES:Monthly Meetings
ORGANIZER;CN="MVA":MAILTO:info@mva.org.nz
END:VEVENT
BEGIN:VEVENT
DTSTART;TZID=Pacific/Auckland:20260611T190000
DTEND;TZID=Pacific/Auckland:20260611T203000
DTSTAMP:20260425T011356
CREATED:20260217T060633Z
LAST-MODIFIED:20260217T060633Z
UID:1048-1781204400-1781209800@mva.org.nz
SUMMARY:June 2026 Meeting
DESCRIPTION:
URL:https://mva.org.nz/event/june-2026-meeting/
LOCATION:Ngatimoti Community Rooms\, 1425 Motueka Valley Highway\, Ngatimoti\, Tasman\, 7196\, New Zealand
CATEGORIES:Monthly Meetings
ORGANIZER;CN="MVA":MAILTO:info@mva.org.nz
END:VEVENT
BEGIN:VEVENT
DTSTART;TZID=Pacific/Auckland:20260709T190000
DTEND;TZID=Pacific/Auckland:20260709T203000
DTSTAMP:20260425T011356
CREATED:20260217T060713Z
LAST-MODIFIED:20260217T060713Z
UID:1050-1783623600-1783629000@mva.org.nz
SUMMARY:July 2026 Meeting
DESCRIPTION:
URL:https://mva.org.nz/event/july-2026-meeting/
LOCATION:Ngatimoti Community Rooms\, 1425 Motueka Valley Highway\, Ngatimoti\, Tasman\, 7196\, New Zealand
CATEGORIES:Monthly Meetings
ORGANIZER;CN="MVA":MAILTO:info@mva.org.nz
END:VEVENT
BEGIN:VEVENT
DTSTART;TZID=Pacific/Auckland:20260813T190000
DTEND;TZID=Pacific/Auckland:20260813T203000
DTSTAMP:20260425T011356
CREATED:20260217T060758Z
LAST-MODIFIED:20260217T060758Z
UID:1052-1786647600-1786653000@mva.org.nz
SUMMARY:August 2026 Meeting
DESCRIPTION:
URL:https://mva.org.nz/event/august-2026-meeting/
LOCATION:Ngatimoti Community Rooms\, 1425 Motueka Valley Highway\, Ngatimoti\, Tasman\, 7196\, New Zealand
CATEGORIES:Monthly Meetings
ORGANIZER;CN="MVA":MAILTO:info@mva.org.nz
END:VEVENT
BEGIN:VEVENT
DTSTART;TZID=Pacific/Auckland:20260910T190000
DTEND;TZID=Pacific/Auckland:20260910T203000
DTSTAMP:20260425T011356
CREATED:20260217T060900Z
LAST-MODIFIED:20260217T060900Z
UID:1054-1789066800-1789072200@mva.org.nz
SUMMARY:September 2026 Meeting
DESCRIPTION:
URL:https://mva.org.nz/event/september-2026-meeting/
LOCATION:Ngatimoti Community Rooms\, 1425 Motueka Valley Highway\, Ngatimoti\, Tasman\, 7196\, New Zealand
CATEGORIES:Monthly Meetings
ORGANIZER;CN="MVA":MAILTO:info@mva.org.nz
END:VEVENT
BEGIN:VEVENT
DTSTART;TZID=Pacific/Auckland:20261008T190000
DTEND;TZID=Pacific/Auckland:20261008T203000
DTSTAMP:20260425T011356
CREATED:20260217T060942Z
LAST-MODIFIED:20260217T060942Z
UID:1056-1791486000-1791491400@mva.org.nz
SUMMARY:October 2026 Meeting
DESCRIPTION:
URL:https://mva.org.nz/event/october-2026-meeting/
LOCATION:Ngatimoti Community Rooms\, 1425 Motueka Valley Highway\, Ngatimoti\, Tasman\, 7196\, New Zealand
CATEGORIES:Monthly Meetings
ORGANIZER;CN="MVA":MAILTO:info@mva.org.nz
END:VEVENT
BEGIN:VEVENT
DTSTART;TZID=Pacific/Auckland:20261112T190000
DTEND;TZID=Pacific/Auckland:20261112T203000
DTSTAMP:20260425T011356
CREATED:20260217T061027Z
LAST-MODIFIED:20260217T061027Z
UID:1058-1794510000-1794515400@mva.org.nz
SUMMARY:November 2026 Meeting
DESCRIPTION:
URL:https://mva.org.nz/event/november-2026-meeting/
LOCATION:Ngatimoti Community Rooms\, 1425 Motueka Valley Highway\, Ngatimoti\, Tasman\, 7196\, New Zealand
CATEGORIES:Monthly Meetings
ORGANIZER;CN="MVA":MAILTO:info@mva.org.nz
END:VEVENT
BEGIN:VEVENT
DTSTART;TZID=Pacific/Auckland:20261210T190000
DTEND;TZID=Pacific/Auckland:20261210T203000
DTSTAMP:20260425T011356
CREATED:20260217T061108Z
LAST-MODIFIED:20260217T061108Z
UID:1060-1796929200-1796934600@mva.org.nz
SUMMARY:December 2026 Meeting
DESCRIPTION:
URL:https://mva.org.nz/event/december-2026-meeting/
LOCATION:Ngatimoti Community Rooms\, 1425 Motueka Valley Highway\, Ngatimoti\, Tasman\, 7196\, New Zealand
CATEGORIES:Monthly Meetings
ORGANIZER;CN="MVA":MAILTO:info@mva.org.nz
END:VEVENT
END:VCALENDAR